BEGIN:VCALENDAR
VERSION:2.0
PRODID:-//ND SLP Advocate, LLC - ECPv6.15.20//NONSGML v1.0//EN
CALSCALE:GREGORIAN
METHOD:PUBLISH
X-ORIGINAL-URL:https://laurasibbald.com
X-WR-CALDESC:Events for ND SLP Advocate, LLC
REFRESH-INTERVAL;VALUE=DURATION:PT1H
X-Robots-Tag:noindex
X-PUBLISHED-TTL:PT1H
BEGIN:VTIMEZONE
TZID:UTC
BEGIN:STANDARD
TZOFFSETFROM:+0000
TZOFFSETTO:+0000
TZNAME:UTC
DTSTART:20220101T000000
END:STANDARD
END:VTIMEZONE
BEGIN:VEVENT
DTSTART;TZID=UTC:20230420T080000
DTEND;TZID=UTC:20230421T161500
DTSTAMP:20260425T125245
CREATED:20230418T152258Z
LAST-MODIFIED:20230418T152539Z
UID:1697-1681977600-1682093700@laurasibbald.com
SUMMARY:2023 PESI 3rd Annual Autism Symposium
DESCRIPTION:Happy Autism Acceptance Month! April 20-21\, Laura will be moderating the 3rd Annual PESI Autism Symposium\, focusing on dynamic and neuro-inclusive interventions for autistic individuals. This is a free conference with content across a broad range of topics and amazing speakers including Temple Grandin\, Robert Naseef\, Stephen Porges\,  Kade Sharp & Varleisha Gibbs. \n\n\n\nTo learn more and to register for free\, please click here.
URL:https://laurasibbald.com/event/2023-pesi-3rd-annual-autism-symposium/
LOCATION:Virtual Online
END:VEVENT
BEGIN:VEVENT
DTSTART;TZID=UTC:20230413T080000
DTEND;TZID=UTC:20230415T170000
DTSTAMP:20260425T125245
CREATED:20230402T014852Z
LAST-MODIFIED:20230402T015442Z
UID:1674-1681372800-1681578000@laurasibbald.com
SUMMARY:2023 PSHA Convention
DESCRIPTION:A highlighted presenter\, Laura\, will be presenting on the “Trauma-Informed Roadmap: Building Trust\, Fostering Safety and Empowering Communication to Establish Independence” on April 13\, 2023\, during the Pennsylvania Speech-Language Hearing Convention at the Valley Forge Casino in Valley Forge\, Pennsylvania. She will also be presenting on April 14\, 2023\, on “Preparing for Post-Secondary Transition: Supporting Student Empowerment as an SLP.” \n\n\n\nFor more information on the PSHA Convention click here.
URL:https://laurasibbald.com/event/psha-2023/
LOCATION:Valley Forge Casino\, 1160 1st Ave\, King of Prussia\, Pennsylvania\, 19406\, United States
ATTACH;FMTTYPE=image/png:https://laurasibbald.com/wp-content/uploads/2023/04/PSHA23-conv-FINAL_72RGBtrans.png
END:VEVENT
BEGIN:VEVENT
DTSTART;TZID=UTC:20230316T090000
DTEND;TZID=UTC:20230316T160000
DTSTAMP:20260425T125245
CREATED:20230520T202602Z
LAST-MODIFIED:20230520T203059Z
UID:1716-1678957200-1678982400@laurasibbald.com
SUMMARY:Spotlight on Transition Symposium
DESCRIPTION:Families and students who learn differently can feel overwhelmed when searching for educational opportunities in high school or higher education. It can be complicated navigating the transition between schools: What support is being offered? Will my student be successful? What is the cost\, and how can I afford it? \n\n\n\nChestnut Hill College is prepared to support you! On Thursday\, March 16\, 2023\, CHC is partnering with several specialized schools in the area to provide comprehensive and practical information surrounding the transition to higher education. Attendees will also have the opportunity to connect with local independent high schools offering services for those who learn differently.
URL:https://laurasibbald.com/event/spotlight-on-transition-symposium/
LOCATION:Chestnut Hill College Sugarloaf\, 9220 Germantown Ave\, Philadelphia\, Pennsylvania\, 19118\, United States
ATTACH;FMTTYPE=application/pdf:https://laurasibbald.com/wp-content/uploads/2023/05/1675880113740.pdf
END:VEVENT
END:VCALENDAR